BEGIN:VCALENDAR
VERSION:2.0
PRODID:-//Tukios.com/
BEGIN:VEVENT
UID:285155b1-37b9-430a-ae07-53b055be149c@www.russellvillefamilyfuneral.com
DTSTAMP:20260422T223227Z
DTSTART:20260424T150000Z
DTEND:20260424T160000Z
SUMMARY:Graveside Service
DESCRIPTION:
URL:https://www.russellvillefamilyfuneral.com/obituaries/thomas-english
LOCATION:Bethel Cemetery 1706 East 2nd Street  Russellville AR 72801
GEO:35.2767434;-93.1132526
END:VEVENT
END:VCALENDAR