BEGIN:VCALENDAR
VERSION:2.0
PRODID:-//Tukios.com/
BEGIN:VEVENT
UID:62fec2e4-81b9-4768-bbf2-81e52e429ab1@www.russellvillefamilyfuneral.com
DTSTAMP:20260422T223227Z
DTSTART:20260424T140000Z
DTEND:20260424T150000Z
SUMMARY:Visitation
DESCRIPTION:
URL:https://www.russellvillefamilyfuneral.com/obituaries/thomas-english
LOCATION:Bethel Cemetery 1706 East 2nd Street  Russellville AR 72801
GEO:35.2767434;-93.1132526
END:VEVENT
END:VCALENDAR